BEGIN:VCALENDAR
VERSION:2.0
PRODID:-//National Museum Kraljevo - ECPv6.15.20//NONSGML v1.0//EN
CALSCALE:GREGORIAN
METHOD:PUBLISH
X-WR-CALNAME:National Museum Kraljevo
X-ORIGINAL-URL:https://nmkv.rs/?lang=en
X-WR-CALDESC:Events for National Museum Kraljevo
REFRESH-INTERVAL;VALUE=DURATION:PT1H
X-Robots-Tag:noindex
X-PUBLISHED-TTL:PT1H
BEGIN:VTIMEZONE
TZID:Europe/Belgrade
BEGIN:DAYLIGHT
TZOFFSETFROM:+0100
TZOFFSETTO:+0200
TZNAME:CEST
DTSTART:20250330T010000
END:DAYLIGHT
BEGIN:STANDARD
TZOFFSETFROM:+0200
TZOFFSETTO:+0100
TZNAME:CET
DTSTART:20251026T010000
END:STANDARD
BEGIN:DAYLIGHT
TZOFFSETFROM:+0100
TZOFFSETTO:+0200
TZNAME:CEST
DTSTART:20260329T010000
END:DAYLIGHT
BEGIN:STANDARD
TZOFFSETFROM:+0200
TZOFFSETTO:+0100
TZNAME:CET
DTSTART:20261025T010000
END:STANDARD
BEGIN:DAYLIGHT
TZOFFSETFROM:+0100
TZOFFSETTO:+0200
TZNAME:CEST
DTSTART:20270328T010000
END:DAYLIGHT
BEGIN:STANDARD
TZOFFSETFROM:+0200
TZOFFSETTO:+0100
TZNAME:CET
DTSTART:20271031T010000
END:STANDARD
END:VTIMEZONE
BEGIN:VEVENT
DTSTART;TZID=Europe/Belgrade:20260213T180000
DTEND;TZID=Europe/Belgrade:20260515T130000
DTSTAMP:20260420T214733
CREATED:20260203T132942Z
LAST-MODIFIED:20260203T132942Z
UID:18678-1771005600-1778850000@nmkv.rs
SUMMARY:Lojanik: Prehistoric Jasper and Opal Quarry
DESCRIPTION:Lojanik represents a unique paleobotanical site\, where fossil remains of silicified\, petrified wood have been discovered. It was declared a scientific research reserve in 1963. The site is located on the northern slopes of Stolovi\, on the right bank of the Ibar River\, near Mataruška Banja. Analysis of the silicified wood identified its origin as petrified conifers of the fir genus (Abies).    \nArchaeological research conducted between 2016 and 2022\, organized by the National Museum Kraljevo and the National Museum of Serbia\, confirmed the mining concept of raw material extraction at Lojanik. Excavations revealed surface mining structures in the form of shallow pits and trenches on both sides of the hill. The oldest archaeological material – jasper\, opal\, breccia\, and silicified wood—was dated to the Middle Paleolithic (Old Stone Age)\, around 228\,000 BC. In addition\, geological layer 2 contained clear evidence of fire use\, dated to around 90\,000 BCE. Fire was employed to remove surface rock and release ore\, direct proof of the skill and experience of populations likely linked to Neanderthals or archaic Homo sapiens.        \nThe significance of Lojanik as a quarry and mining site over the past 200\,000 years cannot be understood without reference to the nearby settlement of Crkvine in Konarevo\, only 2 km away. Crkvine is one of the earliest Early Neolithic settlements\, formed by the arrival of the first farmers on the left bank of the Ibar\, opposite Lojanik. They encountered available raw materials and Paleolithic artifacts\, which they initially used. Lojanik’s limnosilicates\, opals\, silicified wood\, and various breccias became the basic materials for toolmaking in Neolithic settlements in the area.    \nEven in modern times\, the rough\, dark parts of silicified branches were recognized as grinding material for metal blades. In the late 20th century\, “miner” Đorđe Matović and traders (the Vićanović brothers) ran a small-scale production of stone grindstones\, competitive with industrial products of the era. Remarkably\, Matović’s grindstones remain in use today\, still efficient and barely worn after half a century.     \nThe exhibition is authored by Vera Bogosavljević Petrović\, PhD\, museum advisor at the National Museum of Serbia and head of the research project. The exhibition will be formally opened by Dr Dušan Mihailović\, Professor at the Faculty of Philosophy\, University of Belgrade.
URL:https://nmkv.rs/event/lojanik-prehistoric-jasper-and-opal-quarry/?lang=en
LOCATION:National Museum Kraljevo\, Trg Svetog Save 2\, Kraljevo\, 36000\, Србија
ATTACH;FMTTYPE=image/jpeg:https://nmkv.rs/wp-content/uploads/2026/02/Website-event-cover-for-the-exhibition-Lojanik-–-Prehistoric-Jasper-and-Opal-Quarry-in-the-National-Museum-Kraljevo.jpg
ORGANIZER;CN="Tatjana Mihailovi%C4%87":MAILTO:tatjana.mihailovic@nmkv.rs
END:VEVENT
END:VCALENDAR