BEGIN:VCALENDAR
VERSION:2.0
PRODID:-//Народни музеј Краљево - ECPv6.15.20//NONSGML v1.0//EN
CALSCALE:GREGORIAN
METHOD:PUBLISH
X-WR-CALNAME:Народни музеј Краљево
X-ORIGINAL-URL:https://nmkv.rs
X-WR-CALDESC:Events for Народни музеј Краљево
REFRESH-INTERVAL;VALUE=DURATION:PT1H
X-Robots-Tag:noindex
X-PUBLISHED-TTL:PT1H
BEGIN:VTIMEZONE
TZID:Europe/Belgrade
BEGIN:DAYLIGHT
TZOFFSETFROM:+0100
TZOFFSETTO:+0200
TZNAME:CEST
DTSTART:20240331T010000
END:DAYLIGHT
BEGIN:STANDARD
TZOFFSETFROM:+0200
TZOFFSETTO:+0100
TZNAME:CET
DTSTART:20241027T010000
END:STANDARD
BEGIN:DAYLIGHT
TZOFFSETFROM:+0100
TZOFFSETTO:+0200
TZNAME:CEST
DTSTART:20250330T010000
END:DAYLIGHT
BEGIN:STANDARD
TZOFFSETFROM:+0200
TZOFFSETTO:+0100
TZNAME:CET
DTSTART:20251026T010000
END:STANDARD
BEGIN:DAYLIGHT
TZOFFSETFROM:+0100
TZOFFSETTO:+0200
TZNAME:CEST
DTSTART:20260329T010000
END:DAYLIGHT
BEGIN:STANDARD
TZOFFSETFROM:+0200
TZOFFSETTO:+0100
TZNAME:CET
DTSTART:20261025T010000
END:STANDARD
END:VTIMEZONE
BEGIN:VEVENT
DTSTART;TZID=Europe/Belgrade:20250816T200000
DTEND;TZID=Europe/Belgrade:20251002T130000
DTSTAMP:20260419T145456
CREATED:20250804T092519Z
LAST-MODIFIED:20250806T104244Z
UID:18081-1755374400-1759410000@nmkv.rs
SUMMARY:Пут на Исток краља Милана Обреновића: Хаџилук и култура Оријента на српском двору
DESCRIPTION:Изложба „Пут на Исток краља Милана Обреновића: хаџилук и култура Оријента на српском дворуˮ Музеја у Смедереву биће свечано отворена у Галерији Народног музеја Краљево\, у оквиру Жичког духовног сабора „Преображење 2025“\, у суботу\, 16. августа 2025\, са почетком у 20 сати. Изложбу ће отворити аутори др Снежана Цветковић\, музејски саветник Музеја у Смедереву и мср Дејан Вукелић\, стручни саветник Математичког института САНУ у Београду. \nОсновна идеја и инспирација за настанак изложбене поставке „Пут на Исток краља Милана Обреновића: хаџилук и култура Оријента на српском дворуˮ проистекла је из књиге ађутанта краља Милана Обреновића и његовог сапутника на путовању на Исток 1889. године\, пуковника и доцнијег генерала\, Михаила Рашића\, коју је он под називом „Са Њ. В. Краљем Миланом на Истокуˮ објавио 1891/1892. године. \nКључна изложбена полазишта обухватају личност Милана Обреновића\, његову абдикацију и мотиве за путовање у Свету земљу\, духовни преображај који је доживео на Христовом гробу\, перцепцију дискурса Оријента у српској средини и његове утицаје на обликовање двора и дворске културе у Краљевини Србији крајем XIX и почетком XX века. \nУбрзо након низа бурних догађаја у јавном и приватном животу\, Милан Обреновић је у пратњи најближих сарадника\, под псеудонимом „гроф од Таковаˮ\, кренуо на хаџилук у Свету земљу\, са успутним задржавањем у Цариграду\, Бејруту и Дамаску. Живописно путовање краља Милана Обреновића одвијало се у временском периоду од 17. марта до 13. јуна 1889. године\, према старом календару. Гроф од Такова путовао је „муњевитимˮ возом\, бродом\, поштанским колима\, јашући на коњу\, логоровао је у пустињи… Сусретао је многобројне личности\, од султана у Цариграду\, цариградског и јерусалимског патријарха\, бедуина и маронита\, до смедеревског берберина у Дамаску\, а ми смо вас инспирисани овим догађајем повели на музеолошко путовање на Исток. \nНа изложбеним принтовима се налазе фотографије са путовања\, фотографије арапског салона Старог двора у Београду који се чувају у београдским музејима и библиотекама: Музеја града Београда\, Музеја примењене уметности\, Историјског музеја Србије у  Београду и Народне библиотеке Србије\, као и фотографије из поменуте књиге Михаила Рашића. Део поставке чини низ разгледница\, фотографија и књига из приватних колекција\, као и ћилим са мотивом „Рашићева шара“ из Етнолошке збирке Народног музеја у Краљеву. \nАрапски салон у некадашњем Старом београдском двору Обреновића конзерваторка и рестаураторка МА Снежана Мијић моделовала је помоћу виртуелне реалности\, као и сложеном израдом реплике аџами панела\, тј. дрвене полихромне облоге којом су били декорисани зидови поменутог салона. \nУ режији Тибора Варге из Новог Сада снимљен је документарни филм о овом путовању и његовом историјско-уметничком значају о чему у филму говоре аутори изложбе\, а одломке из књиге интерпретира глумац Марко Недељковић. \nУ Универзитетској библиотеци „Светозар Марковић” у Београду урађена је дигитализација књиге Михаила Рашића „Са Њ. В. Краљем Миланом на Истокуˮ како би била доступна што већем броју могућих корисника. На полеђини изложбеног каталога налази се QR код који води ка дигитализованим књигама. \nПројекат „Пут на Исток краља Милана Обреновића: хаџилук и култура Оријента на српском дворуˮ подржали су Министарство културе Републике Србије и Град Смедерево.
URL:https://nmkv.rs/dogadjaj/put-na-istok-kralja-milana-obrenovica-hadziluk-i-kultura-orijenta-na-srpskom-dvoru/
LOCATION:Народни музеј Краљево\, Трг Светог Саве 2\, Краљево\, 36000\, Србија
ATTACH;FMTTYPE=image/jpeg:https://nmkv.rs/wp-content/uploads/2025/08/Website-naslovnica-dogadjaja-za-izlozbu-Put-na-Istok-kralja-Milana-Obrenovica-u-Narodnom-muzeju-Kraljevo.jpg
ORGANIZER;CN="%D0%A2%D0%B0%D1%82%D1%98%D0%B0%D0%BD%D0%B0 %D0%9C%D0%B8%D1%85%D0%B0%D0%B8%D0%BB%D0%BE%D0%B2%D0%B8%D1%9B":MAILTO:tatjana.mihailovic@nmkv.rs
END:VEVENT
BEGIN:VEVENT
DTSTART;TZID=Europe/Belgrade:20250816T200000
DTEND;TZID=Europe/Belgrade:20251002T130000
DTSTAMP:20260419T145456
CREATED:20250804T143358Z
LAST-MODIFIED:20250804T144434Z
UID:18086-1755374400-1759410000@nmkv.rs
SUMMARY:Дискретни херој баштине: Милорад Мики Михаиловић\, историчар уметности и директор Народног музеја Краљево
DESCRIPTION:Изложба „Дискретни херој баштине: Милорад Мики Михаиловић\, историчар уметности и директор Народног музеја Краљево“ биће свечано отворена у Галерији Народног музеја Краљево\, у оквиру Жичког духовног сабора „Преображење 2025“\, у суботу\, 16. августа 2025\, са почетком у 20 сати. \nМилорад Мики Михаиловић је био први историчар уметности\, кустос Уметничке збирке Народног музеја Краљево и директор установе у периоду 1979. до 1995. године\, када је изненада преминуо. У септембру 2025. године навршава се 30 година од његовог одласка\, што је само један од повода да се у години обележавања 75 година рада Музеја\, 30 година рада нове Галерије у приземљу старог школског здања\, приреди изложба посвећена једном од најзначајнијих кустоса ове музејске установе\, коју је шеснаест година на њеном челу успешно водио. \nОд почетка свог рада 1973. године\, Мики се истакао као кључна фигура у развоју ликовне сцене града – покретач бројних пројеката\, изложби\, публикација и иницијатива. Увео је Музеј у заједничко издавање часописа „Наша прошлост“\, активно учествовао у научно-истраживачким пројектима и помогао у формирању уметничких удружења. \nКао директор\, неуморно се борио за нову музејску зграду\, чиме је решио један од највећих изазова установе. Година 1995. била је круна његовог дугогодишњег и самопрегорног труда и рада\, када је прва фаза адаптације довршена и нова Галерија Народног музеја Краљево свечано отворена. Установа је закорачила у нови живот великим корацима са два међународна научна скупа\, приређене четири атрактивне изложбе и петом чија је поставка била у току. \nА онда се догодио нешто тешко схватљиво за породицу\, за установу\, град и ширу културну јавност –  неочекиван одлазак 20. септембра 1995. године у четрдесет осмој години живота: свега шест месеци након уласка у адаптирану музејску зграду\, свега месец дана након завршеног научног скупа „Жича – историја\, уметност“\, на самом почетку једне нове музејске етапе. \nОва изложба је мали у залог сећању на Милорада Микија Михаиловића\, човека који је померао границе у очувању баштине\, дискретно али добро промишљено\, константно и без трагова умора крећући се ка својим циљевима. \nАутори изложбе су др Татјана Михаиловић\, музејски саветник Народног музеја Краљево и Драган Драшковић\, музејски саветник исте установе у пензији.
URL:https://nmkv.rs/dogadjaj/diskretni-heroj-bastine-milorad-mihailovic-istoricar-umetnosti-i-direktor-narodnog-muzeja-kraljevo/
LOCATION:Народни музеј Краљево\, Трг Светог Саве 2\, Краљево\, 36000\, Србија
ATTACH;FMTTYPE=image/jpeg:https://nmkv.rs/wp-content/uploads/2025/08/Website-naslovnica-dogadjaja-za-izlozbu-Diskretni-heroj-bastine-u-Narodnom-muzeju-Kraljevo.jpg
ORGANIZER;CN="%D0%A2%D0%B0%D1%82%D1%98%D0%B0%D0%BD%D0%B0 %D0%9C%D0%B8%D1%85%D0%B0%D0%B8%D0%BB%D0%BE%D0%B2%D0%B8%D1%9B":MAILTO:tatjana.mihailovic@nmkv.rs
END:VEVENT
BEGIN:VEVENT
DTSTART;TZID=Europe/Belgrade:20250916T190000
DTEND;TZID=Europe/Belgrade:20250916T200000
DTSTAMP:20260419T145456
CREATED:20250908T123614Z
LAST-MODIFIED:20250908T132640Z
UID:18234-1758049200-1758052800@nmkv.rs
SUMMARY:Кнез Милан Обреновић (1854-1881): Од бератлије до суверена
DESCRIPTION:Промоција књиге др Сузане Рајић „Кнез Милан Обреновић (1854-1881): Од бератлије до суверена“ одржаће се у Галерији Народног музеја Краљево\, у уторак\, 16. септембра 2025. године\, са почетком у 19 сати. Ово је прва од укупно три планиране књиге које ће осветлити живот и владавину једног од најзначајнијих\, али и најконтроверзнијих владара Србије 19. века. \nПрви том обухвата првих двадесет седам година живота Милана Обреновића. Са само 14 година ступио је на српски престо\, а као двадесетдвогодишњи владар преузео је врховну команду над војском и водио два рата против Османског царства. Иако је у историографији и јавности често представљан као слаб и недостојан владар\, управо у његово доба Србија је стекла међународно признање независности (1878)\, проширила своју територију за готово трећину\, уздигнута на ранг краљевине (1882) и добила прву железничку пругу на линији Београд–Ниш. \nАуторка је за потребе монографије истражила обимну необјављену архивску грађу у чак 38 фондова и збирки смештених у 17 институција у Србији и иностранству – Београду\, Новом Саду\, Крагујевцу\, Москви\, Букурешту\, Бечу и Лондону. Књига је објављена као луксузно издање у тврдом повезу и садржи близу 300 илустрација\, од којих многе први пут постају доступне научној и широј јавности. \nО делу и његовом значају говориће ауторка проф. др Сузана Рајић\, шеф Катедре за историју српског народа у новом веку и управник Центра за српске студије Филозофског факултета Универзитета у Београду\, др Данко Леовац\, ванредни професор Одељења за историју\, Филозофског факултета Универзитета у Београду и историчар Дарко Гучанин\, директор Народног музеја Краљево.
URL:https://nmkv.rs/dogadjaj/knez-milan-obrenovic-1854-1881-od-beratlije-do-suverena/
LOCATION:Народни музеј Краљево\, Трг Светог Саве 2\, Краљево\, 36000\, Србија
ATTACH;FMTTYPE=image/jpeg:https://nmkv.rs/wp-content/uploads/2025/09/Website-naslovnica-dogadjaja-za-promociju-knjige-Suzane-Rajic-Knez-Milan-Obrenovic-u-Narodnom-muzeju-Kraljevo.jpg
ORGANIZER;CN="%D0%94%D0%B0%D1%80%D0%BA%D0%BE %D0%93%D1%83%D1%87%D0%B0%D0%BD%D0%B8%D0%BD":MAILTO:darko.gucanin@nmkv.rs
END:VEVENT
BEGIN:VEVENT
DTSTART;TZID=Europe/Belgrade:20250923T180000
DTEND;TZID=Europe/Belgrade:20250923T190000
DTSTAMP:20260419T145456
CREATED:20250901T174357Z
LAST-MODIFIED:20250918T113457Z
UID:18197-1758650400-1758654000@nmkv.rs
SUMMARY:Ауторско вођење кроз изложбу „Дискретни херој баштине“
DESCRIPTION:Ауторско вођење др Татјане Михаиловић кроз изложбу „Дискретни херој баштине: Милорад Мики Михаиловић историчар уметности и директор Народног музеја Краљево“ одржаће се у Галерији Народног музеја Краљеву\, у уторак\, 23. септембра 2025\, са почетком у 18 сати. \nМилорад Мики Михаиловић је био први историчар уметности\, кустос Уметничке збирке Народног музеја Краљево и директор установе у периоду 1979. до 1995. године\, када је изненада преминуо. У септембру 2025. године навршава се 30 година од његовог одласка\, што је био један од повода да се приреди изложба посвећена једном од најзначајнијих кустоса ове музејске установе\, коју је шеснаест година на њеном челу успешно водио. \nАуторско вођење отвара врата Музеја из времена Милорада Михаиловића\, указује на вредности које је неговао у установи и кључна места његовог стручног и научног фокуса и рада: од развоја ликовне сцене Краљева\, где је био покретач бројних изложби\, публикација и иницијатива\, као и научних пројеката са Институтом за историју уметности у Београду\, преко уређивања часописа „Наша прошлост“\, до неуморне борбе за нову музејску зграду\, са позиције директора\, чија је прва фаза реконструкције завршена 1995. године\, када је свечано отворио нову Галерију Народног музеја Краљево.
URL:https://nmkv.rs/dogadjaj/autorsko-vodjenje-kroz-izlozbu-diskretni-heroj-bastine-milorad-mihailovic-istoricar-umetnosti-i-direktor-narodnog-muzeja-kraljevo/
LOCATION:Народни музеј Краљево\, Трг Светог Саве 2\, Краљево\, 36000\, Србија
ATTACH;FMTTYPE=image/jpeg:https://nmkv.rs/wp-content/uploads/2025/09/Website-naslovnica-dogadjaja-za-trecu-nedelju-autorskih-vodjenja-kroz-izlozbu-Diskretni-heroj-bastine-u-Narodnom-muzeju-Kraljevo.jpg
ORGANIZER;CN="%D0%A2%D0%B0%D1%82%D1%98%D0%B0%D0%BD%D0%B0 %D0%9C%D0%B8%D1%85%D0%B0%D0%B8%D0%BB%D0%BE%D0%B2%D0%B8%D1%9B":MAILTO:tatjana.mihailovic@nmkv.rs
END:VEVENT
BEGIN:VEVENT
DTSTART;TZID=Europe/Belgrade:20250925T180000
DTEND;TZID=Europe/Belgrade:20250925T190000
DTSTAMP:20260419T145456
CREATED:20250901T174154Z
LAST-MODIFIED:20250918T113505Z
UID:18195-1758823200-1758826800@nmkv.rs
SUMMARY:Стручно вођење кроз изложбу „Пут на Исток краља Милана Обреновића“
DESCRIPTION:Стручно вођење кроз изложбу „Пут на Исток краља Милана Обреновића: Хаџилук и култура Оријента на српском двору“\, одржаће се у Галерији Народног музеја Краљево\, у четвртак\, 25. септембра 2025. године\, са почетком у 18 часова. \nKроз поставку ће вас повести кустос Народног музеја Kраљево\, Немања Трифуновић\, који ће посетиоцима приближити значај путовања краља Милана Обреновића на Исток\, његов хаџилук и начин на који су култура и уметност Оријента нашле своје место на српском двору. \nИзложба је посвећена једном од најзначајнијих путовања српског владара крајем XIX века – одласку краља Милана Обреновића у Свету земљу 1889. године\, непосредно након његове абдикације. Путовање\, које је предузео под псеудонимом „гроф од Такова“\, водило је преко Цариграда\, Јерусалима\, Дамаска и Бејрута\, оставивши дубок траг на његов духовни живот\, али и на културу и уметнички израз српског двора. \nПоставка је заснована на путописним белешкама Михаила Рашића\, краљевог ађутанта и пратиоца на овом путовању\, као и на богатом избору фотографија и архивске грађе из више музејских установа Србије. Посетиоци ће моћи да сагледају начин на који су утицаји Оријента унети у дворску културу Србије\, од архитектонских и декоративних решења до предмета луксуза који су красили Арапски салон у Старом двору у Београду. \nИзложба осветљава и шире околности тог доба – културни трансфер који је утицао на обликовање укуса\, уметничких праваца и свакодневице у Србији крајем XIX и почетком XX века. Стручно вођење пружиће посетиоцима прилику да сагледају културно-историјски значај овог путовања у оквиру европских и балканских збивања тога времена. Срдачно вас позивамо да присуствујете овом програму и да\, кроз стручно тумачење\, заједно откријемо нове слојеве једне занимљиве и често недовољно познате странице наше историје.
URL:https://nmkv.rs/dogadjaj/strucno-vodjenje-kroz-izlozbu-put-na-istok-kralja-milana-obrenovica/
LOCATION:Народни музеј Краљево\, Трг Светог Саве 2\, Краљево\, 36000\, Србија
ATTACH;FMTTYPE=image/jpeg:https://nmkv.rs/wp-content/uploads/2025/09/Website-naslovnica-dogadjaja-za-trecu-nedelju-strucnih-vodjenja-kroz-izlozbu-Put-na-Istok-kralja-Milana-Obrenovica-u-Narodnom-muzeju-Kraljevo.jpg
ORGANIZER;CN="%D0%9D%D0%B5%D0%BC%D0%B0%D1%9A%D0%B0 %D0%A2%D1%80%D0%B8%D1%84%D1%83%D0%BD%D0%BE%D0%B2%D0%B8%D1%9B":MAILTO:nemanja.trifunovic@nmkv.rs
END:VEVENT
BEGIN:VEVENT
DTSTART;TZID=Europe/Belgrade:20250930T190000
DTEND;TZID=Europe/Belgrade:20250930T200000
DTSTAMP:20260419T145456
CREATED:20250918T114642Z
LAST-MODIFIED:20250918T114642Z
UID:18286-1759258800-1759262400@nmkv.rs
SUMMARY:Између престола и потраге за личном срећом: Краљ Милан Обреновић и Артемиза Христић
DESCRIPTION:Предавање историчара Александра Марушића\, вишег кустоса Музеја рудничко-таковског краја под називом „Између престола и потраге за личном срећом: краљ Милан Обреновић и Артемиза Христић“ одржаће се у Галерији Народног музеја Краљево\, у уторак \, 30. септембра 2025. године\, са почетком у 19 сати. \nПриватни живот „првог српског краља после Косова“ несумњиво је обележио његов однос са супругом\, краљицом Наталијом. Основа предавања пак\, биће опис и расветљавање емотивног живота српског суверена протканог многобројним аферама са акцентом на љубав и однос према Артемизи Христић. \nМноги ће се питати ко је она заправо била? Девојачког презимена Јоанидис\, кћерка грчког трговца и снабдевача двора у Београду удајом за Милана Христића\, службеника у Министарству иностраних дела\, постаје део ондашњег српског „високог друштва“. Неко време провела је на двору као дама краљице Наталије. Њену лепоту одмах је запазио краљ Милан\, и врло брзо је између њих „букнула љубав“. Да би што више времена проводио са својом „милосницом“ српски краљ је именовао њеног мужа за личног секретара. После разлаза са краљицом Наталијом 1888. године Милан је намеравао да се ожени Артемизом. Захтевао је од ње да се што пре разведе. Ипак\, она није могла лако да добије развод\, па је напустила Београд. Живела је у Цариграду\, где је 1889. године родила мушко дете за које се веровало да му је отац краљ Милан. \nПосебна пажња током предавања биће усмерена ка опису луксузног порцеланског сервиса за ручавање Артемизе Христић који је као поклон добила од свог љубавника\, српског краља. \nДанас\, сервис је део сталне изложбене поставке Музеја рудничко-таковског краја у Горњем Милановцу.
URL:https://nmkv.rs/dogadjaj/izmedju-prestola-i-potrage-za-licnom-srecom-kralj-milan-obrenovic-i-artemiza-hristic/
LOCATION:Народни музеј Краљево\, Трг Светог Саве 2\, Краљево\, 36000\, Србија
ATTACH;FMTTYPE=image/jpeg:https://nmkv.rs/wp-content/uploads/2025/09/Website-naslovnica-dogadjaja-za-predavanje-Aleksandra-Marusica-Izmedju-prestola-i-potrage-za-licnom-srecom-u-Narodnom-muzeju-Kraljevo.jpg
ORGANIZER;CN="%D0%94%D0%B0%D1%80%D0%BA%D0%BE %D0%93%D1%83%D1%87%D0%B0%D0%BD%D0%B8%D0%BD":MAILTO:darko.gucanin@nmkv.rs
END:VEVENT
END:VCALENDAR